BEGIN:VCALENDAR
VERSION:2.0
PRODID:-//HRDC - ECPv5.8.1//NONSGML v1.0//EN
CALSCALE:GREGORIAN
METHOD:PUBLISH
X-WR-CALNAME:HRDC
X-ORIGINAL-URL:https://www.hrdc.mw
X-WR-CALDESC:Events for HRDC
BEGIN:VTIMEZONE
TZID:Europe/Helsinki
BEGIN:DAYLIGHT
TZOFFSETFROM:+0200
TZOFFSETTO:+0300
TZNAME:EEST
DTSTART:20200329T010000
END:DAYLIGHT
BEGIN:STANDARD
TZOFFSETFROM:+0300
TZOFFSETTO:+0200
TZNAME:EET
DTSTART:20201025T010000
END:STANDARD
END:VTIMEZONE
BEGIN:VEVENT
DTSTART;VALUE=DATE:20201210
DTEND;VALUE=DATE:20201211
DTSTAMP:20210817T144953
CREATED:20201103T112317Z
LAST-MODIFIED:20201103T112753Z
UID:4332-1607558400-1607644799@www.hrdc.mw
SUMMARY:Human Rights Day
DESCRIPTION:
URL:https://www.hrdc.mw/event/human-rights-day/
LOCATION:Malawi
END:VEVENT
BEGIN:VEVENT
DTSTART;VALUE=DATE:20201125
DTEND;VALUE=DATE:20201211
DTSTAMP:20210817T144953
CREATED:20201103T113157Z
LAST-MODIFIED:20201103T113157Z
UID:4340-1606262400-1607644799@www.hrdc.mw
SUMMARY:16 Days of Activism
DESCRIPTION:
URL:https://www.hrdc.mw/event/16-days-of-activism/
LOCATION:Malawi
END:VEVENT
END:VCALENDAR